BEGIN:VCALENDAR
VERSION:2.0
PRODID:-//hacksw/handcal//NONSGML v1.0//EN
BEGIN:VEVENT
DTSTART:20250717T070000Z
DTEND:20250717T083000Z
LOCATION:Auditorium de la CCI-NC \n14, Rue de Verdun - Immeuble Journot 5 ème étage EGC - \n98800 Nouméa
ORGANIZER;CN=Béatrice PAJOT BALDI:MAILTO:b.pajotbaldi@cci.nc
SUMMARY:RDV de l'éco de la CCI  - Réinventez le commerce : digital, point de vente et expérience client
DESCRIPTION:Le commerce à l’ère du digital : enjeux et perspectivesDavid BARTHE, directeur général d’EGC France et maître de conférences en marketing digital à l’IAE de Lyon (2012-2022), sera en...
URL:https://alumni-ecoles.cci.nc/fr/event/rdv-de-l-eco-de-la-cci-reinventez-le-commerce-digital-point-de-vente-et-experience-client/2025/07/17/146
BEGIN:VALARM
TRIGGER:-P0DT1H0M0S
ACTION:DISPLAY
END:VALARM
END:VEVENT
END:VCALENDAR