BEGIN:VCALENDAR
VERSION:2.0
PRODID:-//hacksw/handcal//NONSGML v1.0//EN
BEGIN:VEVENT
DTSTART:20260429T063000Z
DTEND:20260429T080000Z
LOCATION:OoTECH  - salle du conseil \n34, Rue du Général Gallieni \n98845 NOUMEA
ORGANIZER;CN=Sophie GERARD:MAILTO:s.gerard@cci.nc
SUMMARY:AGO Association Alumni business network
DESCRIPTION:L'Assemblée Générale Ordinaire de l'association Alumni business network aura lieu le mercredi 29 avril2026 à 17h30.Les membres de l'association recevront une invitation pour y participer.
URL:https://alumni-ecoles.cci.nc/fr/event/ago-association-alumni-business-network/2026/04/29/200
BEGIN:VALARM
TRIGGER:-P0DT1H0M0S
ACTION:DISPLAY
END:VALARM
END:VEVENT
END:VCALENDAR