BEGIN:VCALENDAR
VERSION:2.0
PRODID:-//hacksw/handcal//NONSGML v1.0//EN
BEGIN:VEVENT
DTSTART:20260424T214500Z
DTEND:20260425T010000Z
LOCATION:Olympique de Nouméa
ORGANIZER;CN=Kolia LAPOUS:MAILTO:kolia.lapous@gmail.com
SUMMARY:Tournoi de foot EGC 5 vs 5 – Inscriptions ouvertes ⚽️
DESCRIPTION:\n⚽️Un tournoi de foot 5 contre 5 pour se dépenser, jouer ensemble et passer un bon moment sur le terrain !Ce tournoi qui aura lieu le samedi 25 avril rassemblera plusieurs équipes autour d’une...
URL:https://alumni-ecoles.cci.nc/fr/event/tournoi-de-foot-egc-5-vs-5-inscriptions-ouvertes/2026/04/24/204
BEGIN:VALARM
TRIGGER:-P0DT1H0M0S
ACTION:DISPLAY
END:VALARM
END:VEVENT
END:VCALENDAR