BEGIN:VCALENDAR
VERSION:2.0
PRODID:-//hacksw/handcal//NONSGML v1.0//EN
BEGIN:VEVENT
DTSTART:20260730T210000Z
DTEND:20260731T010000Z
LOCATION:Nouméa \n14, Rue de Verdun - Immeuble Journot 4ème étage EGC - \n98800 NOUMEA
ORGANIZER;CN=Sophie GERARD:MAILTO:s.gerard@cci.nc
SUMMARY:EGC - Matinée pour recruter  -  Réservez votre stand  !
DESCRIPTION:Job dating pour les stages commerciaux des 1ères années et les contrats d'alternance pour la rentrée 2027La matinée  pour recruter est le rendez-vous privilégié entre  les recruteurs  en recherche de ...
URL:https://alumni-ecoles.cci.nc/fr/event/egc-matinee-pour-recruter-reservez-votre-stand/2026/07/30/205
BEGIN:VALARM
TRIGGER:-P0DT1H0M0S
ACTION:DISPLAY
END:VALARM
END:VEVENT
END:VCALENDAR